BEGIN:VCALENDAR
VERSION:2.0
PRODID:-//Earhart School PTA - ECPv6.15.20//NONSGML v1.0//EN
CALSCALE:GREGORIAN
METHOD:PUBLISH
X-WR-CALNAME:Earhart School PTA
X-ORIGINAL-URL:https://www.earhartpta.org
X-WR-CALDESC:Events for Earhart School PTA
REFRESH-INTERVAL;VALUE=DURATION:PT1H
X-Robots-Tag:noindex
X-PUBLISHED-TTL:PT1H
BEGIN:VTIMEZONE
TZID:America/Los_Angeles
BEGIN:DAYLIGHT
TZOFFSETFROM:-0800
TZOFFSETTO:-0700
TZNAME:PDT
DTSTART:20220313T100000
END:DAYLIGHT
BEGIN:STANDARD
TZOFFSETFROM:-0700
TZOFFSETTO:-0800
TZNAME:PST
DTSTART:20221106T090000
END:STANDARD
BEGIN:DAYLIGHT
TZOFFSETFROM:-0800
TZOFFSETTO:-0700
TZNAME:PDT
DTSTART:20230312T100000
END:DAYLIGHT
BEGIN:STANDARD
TZOFFSETFROM:-0700
TZOFFSETTO:-0800
TZNAME:PST
DTSTART:20231105T090000
END:STANDARD
BEGIN:DAYLIGHT
TZOFFSETFROM:-0800
TZOFFSETTO:-0700
TZNAME:PDT
DTSTART:20240310T100000
END:DAYLIGHT
BEGIN:STANDARD
TZOFFSETFROM:-0700
TZOFFSETTO:-0800
TZNAME:PST
DTSTART:20241103T090000
END:STANDARD
END:VTIMEZONE
BEGIN:VEVENT
DTSTART;TZID=America/Los_Angeles:20230517T135000
DTEND;TZID=America/Los_Angeles:20230517T145000
DTSTAMP:20260419T063226
CREATED:20230404T172827Z
LAST-MODIFIED:20230404T172827Z
UID:1917-1684331400-1684335000@www.earhartpta.org
SUMMARY:2023 Garden Club Meeting
DESCRIPTION:This free\, volunteer-led club is for TK-5th graders and their families. We ask that a caregiver accompany TK-2nd graders\, but this is not required. Meetups will be on Wednesdays after school from 1:50-2:50 pm  (or 12:10-1:10 pm for early release Wednesdays) and 1 Saturday a month\, likely on Ocean Clean-up days. \nWe need at least four parent volunteers to commit to 1 hr a month on Wednesdays. Parents are always welcome to drop in if you are interested but can’t commit to a schedule. If you are able to commit to one Wednesday meeting a month\, please sign up here. \nPlease contact Wildaliz if you are interested or have any questions. We hope to see you and your child in the garden!
URL:https://www.earhartpta.org/event/2023-garden-club-meeting-7/
LOCATION:Earhart Elementary School\, 400 Packet Landing\, Alameda\, CA\, 94502\, United States
CATEGORIES:Events
END:VEVENT
BEGIN:VEVENT
DTSTART;TZID=America/Los_Angeles:20230516T190000
DTEND;TZID=America/Los_Angeles:20230516T200000
DTSTAMP:20260419T063226
CREATED:20220920T155835Z
LAST-MODIFIED:20230523T044433Z
UID:1415-1684263600-1684267200@www.earhartpta.org
SUMMARY:May 2023 PTA Meeting - Final Meeting of the Year!
DESCRIPTION:Agenda \nTreasurer’s Report \n  \nBeginning January 2023\, PTA meetings will be held in person only. For security\, please visit https://earhartpta.membershiptoolkit.com/2022-2023ptameetings for specific Zoom information.
URL:https://www.earhartpta.org/event/may-2023-pta-meeting/
LOCATION:CA
CATEGORIES:Events
END:VEVENT
BEGIN:VEVENT
DTSTART;TZID=America/Los_Angeles:20230510T135000
DTEND;TZID=America/Los_Angeles:20230510T145000
DTSTAMP:20260419T063226
CREATED:20230404T172647Z
LAST-MODIFIED:20230404T172647Z
UID:1915-1683726600-1683730200@www.earhartpta.org
SUMMARY:2023 Garden Club Meeting
DESCRIPTION:This free\, volunteer-led club is for TK-5th graders and their families. We ask that a caregiver accompany TK-2nd graders\, but this is not required. Meetups will be on Wednesdays after school from 1:50-2:50 pm  (or 12:10-1:10 pm for early release Wednesdays) and 1 Saturday a month\, likely on Ocean Clean-up days. \nWe need at least four parent volunteers to commit to 1 hr a month on Wednesdays. Parents are always welcome to drop in if you are interested but can’t commit to a schedule. If you are able to commit to one Wednesday meeting a month\, please sign up here. \nPlease contact Wildaliz if you are interested or have any questions. We hope to see you and your child in the garden!
URL:https://www.earhartpta.org/event/2023-garden-club-meeting-6/
LOCATION:Earhart Elementary School\, 400 Packet Landing\, Alameda\, CA\, 94502\, United States
CATEGORIES:Events
END:VEVENT
BEGIN:VEVENT
DTSTART;TZID=America/Los_Angeles:20230509T183000
DTEND;TZID=America/Los_Angeles:20230509T203000
DTSTAMP:20260419T063226
CREATED:20230114T233533Z
LAST-MODIFIED:20230114T233533Z
UID:1634-1683657000-1683664200@www.earhartpta.org
SUMMARY:AUSD School Board Meeting
DESCRIPTION:The Board of Education holds regular meetings the second and fourth Tuesday of the month at 6:30 PM. In addition\, the Board holds several Special Board of Education meetings each year\, as well as committee and subcommittee meetings.\n\nAll AUSD meetings are recorded and all AUSD Board agendas\, minutes\, and videos are available on our NovusAgenda page. This site works best with Internet Explorer.\n\n\nIn response to the continued pandemic\, the Alameda Unified School District continues to conduct its Board of Education meetings via Zoom. \nVia Zoom \nThe Zoom link for all Regular Board of Education Meetings is here. \n\nMeeting ID: 827 6912 9867\nPasscode: 057427\n\nVia Facebook \nAll Regular Board meetings are streamed live on AUSD’s Facebook page. \n\nThe full 2023 meeting schedule can be found here.
URL:https://www.earhartpta.org/event/ausd-school-board-meeting-7/
LOCATION:CA
CATEGORIES:Events
END:VEVENT
BEGIN:VEVENT
DTSTART;VALUE=DATE:20230508
DTEND;VALUE=DATE:20230513
DTSTAMP:20260419T063226
CREATED:20230425T214217Z
LAST-MODIFIED:20230425T214217Z
UID:1974-1683504000-1683935999@www.earhartpta.org
SUMMARY:Teacher and Staff Appreciation Week
DESCRIPTION:Teacher and Staff Appreciation Week is May 8 – 12\, and lots of volunteers are needed to make this week a success! Visit this link to sign up for volunteer opportunities.
URL:https://www.earhartpta.org/event/teacher-and-staff-appreciation-week/
LOCATION:CA
CATEGORIES:Events
END:VEVENT
BEGIN:VEVENT
DTSTART;TZID=America/Los_Angeles:20230505T080000
DTEND;TZID=America/Los_Angeles:20230505T090000
DTSTAMP:20260419T063226
CREATED:20230115T055546Z
LAST-MODIFIED:20230115T055546Z
UID:1651-1683273600-1683277200@www.earhartpta.org
SUMMARY:PTA Community Coffee
DESCRIPTION:Join us on the blacktop for coffee and light bites before or after the morning ceremony on the First Friday of each month. If you are interested in volunteering to help at a community coffee event\, please contact Stephanie Warren: kusteph97@yahoo.com.
URL:https://www.earhartpta.org/event/pta-community-coffee-4/
LOCATION:CA
CATEGORIES:Events
END:VEVENT
BEGIN:VEVENT
DTSTART;TZID=America/Los_Angeles:20230503T121000
DTEND;TZID=America/Los_Angeles:20230503T130000
DTSTAMP:20260419T063226
CREATED:20230404T171202Z
LAST-MODIFIED:20230410T230118Z
UID:1912-1683115800-1683118800@www.earhartpta.org
SUMMARY:2023 Garden Club Meeting
DESCRIPTION:This free\, volunteer-led club is for TK-5th graders and their families. We ask that a caregiver accompany TK-2nd graders\, but this is not required. Meetups will be on Wednesdays after school from 1:50-2:50 pm  (or 12:10-1:10 pm for early release Wednesdays) and 1 Saturday a month\, likely on Ocean Clean-up days. \nWe need at least four parent volunteers to commit to 1 hr a month on Wednesdays. Parents are always welcome to drop in if you are interested but can’t commit to a schedule. If you are able to commit to one Wednesday meeting a month\, please sign up here. \nPlease contact Wildaliz if you are interested or have any questions. We hope to see you and your child in the garden!
URL:https://www.earhartpta.org/event/2023-garden-club-meeting-5/
LOCATION:Earhart Elementary School\, 400 Packet Landing\, Alameda\, CA\, 94502\, United States
CATEGORIES:Events
END:VEVENT
BEGIN:VEVENT
DTSTART;TZID=America/Los_Angeles:20230503T000000
DTEND;TZID=America/Los_Angeles:20230503T000000
DTSTAMP:20260419T063226
CREATED:20220920T203152Z
LAST-MODIFIED:20220920T203152Z
UID:1453-1683072000-1683072000@www.earhartpta.org
SUMMARY:Teacher Collaboration Early Dismissal
DESCRIPTION:Dismissal TimesTK – 12:10 pm\nK – 11:40 am\n1st-5th – 12:10 pm
URL:https://www.earhartpta.org/event/teacher-collaboration-early-dismissal-6/
LOCATION:CA
CATEGORIES:Events
END:VEVENT
BEGIN:VEVENT
DTSTART;TZID=America/Los_Angeles:20230428T180000
DTEND;TZID=America/Los_Angeles:20230428T200000
DTSTAMP:20260419T063226
CREATED:20230425T214129Z
LAST-MODIFIED:20230425T214129Z
UID:1972-1682704800-1682712000@www.earhartpta.org
SUMMARY:Movie Night 4/28
DESCRIPTION:Join your friends on April 28th in the MPR for a showing of Disney’s Strange World. Doors open at 6:00 pm\, and the movie starts at 6:30 pm.\n\n 
URL:https://www.earhartpta.org/event/movie-night-4-28/
LOCATION:Earhart Elementary School\, 400 Packet Landing\, Alameda\, CA\, 94502\, United States
CATEGORIES:Events
END:VEVENT
BEGIN:VEVENT
DTSTART;TZID=America/Los_Angeles:20230426T140000
DTEND;TZID=America/Los_Angeles:20230426T150000
DTSTAMP:20260419T063226
CREATED:20230404T170917Z
LAST-MODIFIED:20230410T230040Z
UID:1910-1682517600-1682521200@www.earhartpta.org
SUMMARY:2023 Garden Club Meeting
DESCRIPTION:This free\, volunteer-led club is for TK-5th graders and their families. We ask that a caregiver accompany TK-2nd graders\, but this is not required. Meetups will be on Wednesdays after school from 1:50-2:50 pm  (or 12:10-1:10 pm for early release Wednesdays) and 1 Saturday a month\, likely on Ocean Clean-up days. \nWe need at least four parent volunteers to commit to 1 hr a month on Wednesdays. Parents are always welcome to drop in if you are interested but can’t commit to a schedule. If you are able to commit to one Wednesday meeting a month\, please sign up here. \nPlease contact Wildaliz if you are interested or have any questions. We hope to see you and your child in the garden!
URL:https://www.earhartpta.org/event/2023-garden-club-meeting-4/
LOCATION:Earhart Elementary School\, 400 Packet Landing\, Alameda\, CA\, 94502\, United States
CATEGORIES:Events
END:VEVENT
BEGIN:VEVENT
DTSTART;TZID=America/Los_Angeles:20230426T000000
DTEND;TZID=America/Los_Angeles:20230426T000000
DTSTAMP:20260419T063226
CREATED:20220920T203253Z
LAST-MODIFIED:20220920T203253Z
UID:1476-1682467200-1682467200@www.earhartpta.org
SUMMARY:Minimum Day
DESCRIPTION:Dismissal TimesTK – 12:30 pm\nK – 12:40 am\n1st-5th – 1:50 pm
URL:https://www.earhartpta.org/event/minimum-day-23/
LOCATION:CA
CATEGORIES:Events
END:VEVENT
BEGIN:VEVENT
DTSTART;TZID=America/Los_Angeles:20230425T183000
DTEND;TZID=America/Los_Angeles:20230425T203000
DTSTAMP:20260419T063226
CREATED:20230114T233506Z
LAST-MODIFIED:20230114T233506Z
UID:1632-1682447400-1682454600@www.earhartpta.org
SUMMARY:AUSD School Board Meeting
DESCRIPTION:The Board of Education holds regular meetings the second and fourth Tuesday of the month at 6:30 PM. In addition\, the Board holds several Special Board of Education meetings each year\, as well as committee and subcommittee meetings.\n\nAll AUSD meetings are recorded and all AUSD Board agendas\, minutes\, and videos are available on our NovusAgenda page. This site works best with Internet Explorer.\n\n\nIn response to the continued pandemic\, the Alameda Unified School District continues to conduct its Board of Education meetings via Zoom. \nVia Zoom \nThe Zoom link for all Regular Board of Education Meetings is here. \n\nMeeting ID: 827 6912 9867\nPasscode: 057427\n\nVia Facebook \nAll Regular Board meetings are streamed live on AUSD’s Facebook page. \n\nThe full 2023 meeting schedule can be found here.
URL:https://www.earhartpta.org/event/ausd-school-board-meeting-6/
LOCATION:CA
CATEGORIES:Events
END:VEVENT
BEGIN:VEVENT
DTSTART;TZID=America/Los_Angeles:20230422T093000
DTEND;TZID=America/Los_Angeles:20230422T110000
DTSTAMP:20260419T063226
CREATED:20230404T163056Z
LAST-MODIFIED:20230410T225903Z
UID:1907-1682155800-1682161200@www.earhartpta.org
SUMMARY:2023 Garden Club Meeting
DESCRIPTION:This free\, volunteer-led club is for TK-5th graders and their families. We ask that a caregiver accompany TK-2nd graders\, but this is not required. Meetups will be on Wednesdays after school from 1:50-2:50 pm  (or 12:10-1:10 pm for early release Wednesdays) and 1 Saturday a month\, likely on Ocean Clean-up days. \nWe need at least four parent volunteers to commit to 1 hr a month on Wednesdays. Parents are always welcome to drop in if you are interested but can’t commit to a schedule. If you are able to commit to one Wednesday meeting a month\, please sign up here. \nPlease contact Wildaliz if you are interested or have any questions. We hope to see you and your child in the garden!
URL:https://www.earhartpta.org/event/2023-garden-club-meeting-3/
LOCATION:Earhart Elementary School\, 400 Packet Landing\, Alameda\, CA\, 94502\, United States
CATEGORIES:Events
END:VEVENT
BEGIN:VEVENT
DTSTART;TZID=America/Los_Angeles:20230422T083000
DTEND;TZID=America/Los_Angeles:20230422T093000
DTSTAMP:20260419T063226
CREATED:20230114T225330Z
LAST-MODIFIED:20230306T030943Z
UID:1605-1682152200-1682155800@www.earhartpta.org
SUMMARY:Coastal Cleanup - Ocean Guardians
DESCRIPTION:It’s time to bring those buckets\, rain boots (or other water-resistant shoes) and clean up our beloved estuary! We will meet in the Earhart parking lot at 8:30 AM and walk down to Harbor Bay. We can supply robohands\, gloves\, and a limited number of buckets. Around 9:35\, we will weigh the trash collected.  \n  \n**This event will be canceled when it is raining.**
URL:https://www.earhartpta.org/event/coastal-cleanup-ocean-guardians-2/
LOCATION:Earhart Elementary School\, 400 Packet Landing\, Alameda\, CA\, 94502\, United States
CATEGORIES:Events
END:VEVENT
BEGIN:VEVENT
DTSTART;VALUE=DATE:20230421
DTEND;VALUE=DATE:20230422
DTSTAMP:20260419T063226
CREATED:20230425T215322Z
LAST-MODIFIED:20230425T215322Z
UID:1978-1682035200-1682121599@www.earhartpta.org
SUMMARY:Friday April 21
DESCRIPTION:Solutions Friday\, 4/21  \nhttps://earhartpta.membershiptoolkit.com/calendar/event/26950121
URL:https://www.earhartpta.org/event/friday-april-21/
LOCATION:CA
CATEGORIES:Events
END:VEVENT
BEGIN:VEVENT
DTSTART;VALUE=DATE:20230421
DTEND;VALUE=DATE:20230422
DTSTAMP:20260419T063226
CREATED:20230418T214230Z
LAST-MODIFIED:20230425T220216Z
UID:1963-1682035200-1682121599@www.earhartpta.org
SUMMARY:Solutions Friday - 4/21
DESCRIPTION:Reducing your Carbon Footprint and Tackling Plastic Pollution (8:45 am in the MPR) \nPresentation by Go Green PTA Committee Chair Idania Zamora\, a climate scientist from the Bay Area Air Quality Management District. \nEarth Day Music Concert (1:20 pm – Dismissal) \nParents are invited to watch the concert in the yard. Please remind your students to wear and bring sun protection for the concert (e.g.\, hats\, sunglasses\, sunblock) and avoid heavy or dark-colored clothes to avoid overheating.
URL:https://www.earhartpta.org/event/solutions-friday-4-21/
LOCATION:CA
CATEGORIES:Events
END:VEVENT
BEGIN:VEVENT
DTSTART;TZID=America/Los_Angeles:20230420T183000
DTEND;TZID=America/Los_Angeles:20230420T193000
DTSTAMP:20260419T063226
CREATED:20221003T164640Z
LAST-MODIFIED:20221003T164640Z
UID:1523-1682015400-1682019000@www.earhartpta.org
SUMMARY:Diversity\, Equity & Inclusion Community of Practice: Belonging
DESCRIPTION:Diversity\, Equity & Inclusion Community of Practice \nApril 20: Belonging \nAll sessions 6:30-7:30 p.m. via Zoom: https://alamedaunified.zoom.us/j/82491129334   \nAUSD will host a series of five community learning conversations to learn and discuss the essential conditions that foster safe and inclusive spaces in our schools. All AUSD community members and parent/guardian school site leaders who would like to learn about and help build safe and inclusive school communities are welcome.
URL:https://www.earhartpta.org/event/diversity-equity-inclusion-community-of-practice-belonging/
LOCATION:CA
CATEGORIES:Events
END:VEVENT
BEGIN:VEVENT
DTSTART;VALUE=DATE:20230420
DTEND;VALUE=DATE:20230421
DTSTAMP:20260419T063226
CREATED:20230418T214140Z
LAST-MODIFIED:20230418T214140Z
UID:1961-1681948800-1682035199@www.earhartpta.org
SUMMARY:Conservation Thursday - 4/20
DESCRIPTION:Have you seen our exciting new neighbors here on Bay Farm? The bald eagles! Your children will learn about the ecology of bald eagles and the threats they face from climate change through a video recorded by our Go Green PTA team member Christine Gehrig Downie\, an environmental scientist from Berkeley.
URL:https://www.earhartpta.org/event/conservation-thursday-4-20/
LOCATION:CA
CATEGORIES:Events
END:VEVENT
BEGIN:VEVENT
DTSTART;TZID=America/Los_Angeles:20230419T140000
DTEND;TZID=America/Los_Angeles:20230419T150000
DTSTAMP:20260419T063226
CREATED:20230404T165120Z
LAST-MODIFIED:20230410T225837Z
UID:1905-1681912800-1681916400@www.earhartpta.org
SUMMARY:2023 Garden Club Meeting
DESCRIPTION:This free\, volunteer-led club is for TK-5th graders and their families. We ask that a caregiver accompany TK-2nd graders\, but this is not required. Meetups will be on Wednesdays after school from 1:50-2:50 pm  (or 12:10-1:10 pm for early release Wednesdays) and 1 Saturday a month\, likely on Ocean Clean-up days. \nWe need at least four parent volunteers to commit to 1 hr a month on Wednesdays. Parents are always welcome to drop in if you are interested but can’t commit to a schedule. If you are able to commit to one Wednesday meeting a month\, please sign up here. \nPlease contact Wildaliz if you are interested or have any questions. We hope to see you and your child in the garden!
URL:https://www.earhartpta.org/event/2023-garden-club-meeting-2/
LOCATION:Earhart Elementary School\, 400 Packet Landing\, Alameda\, CA\, 94502\, United States
CATEGORIES:Events
END:VEVENT
BEGIN:VEVENT
DTSTART;VALUE=DATE:20230419
DTEND;VALUE=DATE:20230420
DTSTAMP:20260419T063226
CREATED:20230418T214032Z
LAST-MODIFIED:20230418T214032Z
UID:1959-1681862400-1681948799@www.earhartpta.org
SUMMARY:Waste Reduction Wednesday - 4/19
DESCRIPTION:Bread Tag Recycling Event (through May 12) \nPlease collect your bread tags starting today! Bread tags will be donated to the non-profit organization Danielle Care for Chairs\, which uses the revenue from recycling bread tags to purchase mobility products\, like wheelchairs for those in need. See the flyer for more details. \nCelebrate Earth Week with Garden Club  \n1:50 pm – 2:50 pm by the science building \nHelp us create compost for the school garden and learn how to plant food scraps. See the flyer for materials to collect by grade level.
URL:https://www.earhartpta.org/event/waste-reduction-wednesday-4-19/
LOCATION:Earhart Elementary School\, 400 Packet Landing\, Alameda\, CA\, 94502\, United States
CATEGORIES:Events
END:VEVENT
BEGIN:VEVENT
DTSTART;TZID=America/Los_Angeles:20230419T000000
DTEND;TZID=America/Los_Angeles:20230419T000000
DTSTAMP:20260419T063226
CREATED:20220920T203253Z
LAST-MODIFIED:20220920T203253Z
UID:1475-1681862400-1681862400@www.earhartpta.org
SUMMARY:Minimum Day
DESCRIPTION:Dismissal TimesTK – 12:30 pm\nK – 12:40 am\n1st-5th – 1:50 pm
URL:https://www.earhartpta.org/event/minimum-day-22/
LOCATION:CA
CATEGORIES:Events
END:VEVENT
BEGIN:VEVENT
DTSTART;TZID=America/Los_Angeles:20230418T190000
DTEND;TZID=America/Los_Angeles:20230418T200000
DTSTAMP:20260419T063226
CREATED:20220920T155803Z
LAST-MODIFIED:20230417T210457Z
UID:1413-1681844400-1681848000@www.earhartpta.org
SUMMARY:April 2023 PTA Meeting
DESCRIPTION:Agenda \nTreasurer’s Report \n  \nBeginning January 2023\, PTA meetings will be held in person only. For security\, please visit https://earhartpta.membershiptoolkit.com/2022-2023ptameetings for specific Zoom information.
URL:https://www.earhartpta.org/event/april-2023-pta-meeting/
LOCATION:CA
CATEGORIES:Events
END:VEVENT
BEGIN:VEVENT
DTSTART;VALUE=DATE:20230417
DTEND;VALUE=DATE:20230421
DTSTAMP:20260419T063226
CREATED:20230404T174901Z
LAST-MODIFIED:20230404T174901Z
UID:1933-1681689600-1682035199@www.earhartpta.org
SUMMARY:Earth Week & Bread Tag Recycling
DESCRIPTION:A full schedule will be announced soon\, but a special four-week recycling event will kick off on Monday\, April 17th. Our school will collect plastic bread bag tags to donate to Danielle Cares for Chairs. This spring break–start saving those bread bag tags!
URL:https://www.earhartpta.org/event/earth-week-bread-tag-recycling/
LOCATION:CA
CATEGORIES:Events
END:VEVENT
BEGIN:VEVENT
DTSTART;VALUE=DATE:20230417
DTEND;VALUE=DATE:20230418
DTSTAMP:20260419T063226
CREATED:20230404T174720Z
LAST-MODIFIED:20230404T174720Z
UID:1931-1681689600-1681775999@www.earhartpta.org
SUMMARY:Yearbook Photo Deadline
DESCRIPTION:The last day to upload your photos for yearbook consideration is Monday after the break. The final day for yearbook preorders and free shipping to school is Friday\, May 5th.
URL:https://www.earhartpta.org/event/yearbook-photo-deadline/
LOCATION:CA
CATEGORIES:Events
END:VEVENT
BEGIN:VEVENT
DTSTART;TZID=America/Los_Angeles:20230410T000000
DTEND;TZID=America/Los_Angeles:20230414T000000
DTSTAMP:20260419T063226
CREATED:20220920T203107Z
LAST-MODIFIED:20220920T203108Z
UID:1435-1681084800-1681430400@www.earhartpta.org
SUMMARY:Spring Break
DESCRIPTION:
URL:https://www.earhartpta.org/event/spring-break/
LOCATION:CA
CATEGORIES:Events
END:VEVENT
BEGIN:VEVENT
DTSTART;TZID=America/Los_Angeles:20230407T080000
DTEND;TZID=America/Los_Angeles:20230407T090000
DTSTAMP:20260419T063226
CREATED:20230115T055515Z
LAST-MODIFIED:20230115T055515Z
UID:1649-1680854400-1680858000@www.earhartpta.org
SUMMARY:PTA Community Coffee
DESCRIPTION:Join us on the blacktop for coffee and light bites before or after the morning ceremony on the First Friday of each month. If you are interested in volunteering to help at a community coffee event\, please contact Stephanie Warren: kusteph97@yahoo.com.
URL:https://www.earhartpta.org/event/pta-community-coffee-3/
LOCATION:CA
CATEGORIES:Events
END:VEVENT
BEGIN:VEVENT
DTSTART;TZID=America/Los_Angeles:20230405T170000
DTEND;TZID=America/Los_Angeles:20230405T183000
DTSTAMP:20260419T063226
CREATED:20230320T224419Z
LAST-MODIFIED:20230320T224537Z
UID:1867-1680714000-1680719400@www.earhartpta.org
SUMMARY:Family Tech Talk Night
DESCRIPTION:Thanks Heather\, Bay Farm president\, for sharing this information regarding internet safety for kids and families. The event will be on April 5 at 5:00 pm Pacific. This session will be also available in Spanish\, please shared it with your community.\n\nFTTN Overview 2022\nFamily Tech Talk – 5 April 2023 – Event_Flyer – English.pdf\nFamily Tech Talk – 5 Abril 2023 – Event_Flyer – Spanish.pdf\n\nJoin this virtual event at:\n\nhttps://trendmicro.zoom.us/j/95232224306?pwd=aUFnT05wdDIvOTJ3Z080T2FxSktFZz09 \nPasscode 694019
URL:https://www.earhartpta.org/event/family-tech-talk-night/
LOCATION:CA
CATEGORIES:Events
END:VEVENT
BEGIN:VEVENT
DTSTART;TZID=America/Los_Angeles:20230405T121000
DTEND;TZID=America/Los_Angeles:20230405T131000
DTSTAMP:20260419T063226
CREATED:20230404T164758Z
LAST-MODIFIED:20230404T165719Z
UID:1902-1680696600-1680700200@www.earhartpta.org
SUMMARY:2023 Garden Club Meeting
DESCRIPTION:This free\, volunteer-led club is for TK-5th graders and their families. We ask that a caregiver accompany TK-2nd graders\, but this is not required. Meetups will be on Wednesdays after school from 1:50-2:50 pm  (or 12:10-1:10 pm for early release Wednesdays) and 1 Saturday a month\, likely on Ocean Clean-up days. \nWe need at least four parent volunteers to commit to 1 hr a month on Wednesdays. Parents are always welcome to drop in if you are interested but can’t commit to a schedule. If you are able to commit to one Wednesday meeting a month\, please sign up here. \nPlease contact Wildaliz if you are interested or have any questions. We hope to see you and your child in the garden!
URL:https://www.earhartpta.org/event/2023-garden-club-meeting/
LOCATION:Earhart Elementary School\, 400 Packet Landing\, Alameda\, CA\, 94502\, United States
CATEGORIES:Events
END:VEVENT
BEGIN:VEVENT
DTSTART;TZID=America/Los_Angeles:20230405T000000
DTEND;TZID=America/Los_Angeles:20230405T000000
DTSTAMP:20260419T063226
CREATED:20220920T203152Z
LAST-MODIFIED:20220920T203152Z
UID:1452-1680652800-1680652800@www.earhartpta.org
SUMMARY:Teacher Collaboration Early Dismissal
DESCRIPTION:Dismissal TimesTK – 12:10 pm\nK – 11:40 am\n1st-5th – 12:10 pm
URL:https://www.earhartpta.org/event/teacher-collaboration-early-dismissal-5/
LOCATION:CA
CATEGORIES:Events
END:VEVENT
BEGIN:VEVENT
DTSTART;TZID=America/Los_Angeles:20230403T170000
DTEND;TZID=America/Los_Angeles:20230403T190000
DTSTAMP:20260419T063226
CREATED:20230321T170140Z
LAST-MODIFIED:20230321T170339Z
UID:1875-1680541200-1680548400@www.earhartpta.org
SUMMARY:City of Alameda Traffic Safety Open House
DESCRIPTION:Stafford Room\, Main Library \n1550 Oak Street\, Alameda \nWhat is it? \n\nLearn about traffic safety trends & recent crashes in Alameda\nHear what the City of Alameda is doing to improve safety\nShare your ideas and concerns\nGet safety tips\n\nJoin us! \n\nDrop in anytime\nChildren’s coloring table\nLight snacks\nStickers and giveaways\n\nCommunity members are invited to bring a flower to add to a memorial for lives lost to traffic violence.
URL:https://www.earhartpta.org/event/city-of-alameda-traffic-safety-open-house-april-3/
LOCATION:Stafford Room\, Main Library\, 1550 Oak Street\, Alameda\, CA\, United States
CATEGORIES:Events
ORGANIZER;CN="Vision Zero Alameda":MAILTO:visionzero@alamedaca.gov
END:VEVENT
END:VCALENDAR