BEGIN:VCALENDAR
VERSION:2.0
PRODID:-//Earhart School PTA - ECPv6.15.20//NONSGML v1.0//EN
CALSCALE:GREGORIAN
METHOD:PUBLISH
X-WR-CALNAME:Earhart School PTA
X-ORIGINAL-URL:https://www.earhartpta.org
X-WR-CALDESC:Events for Earhart School PTA
REFRESH-INTERVAL;VALUE=DURATION:PT1H
X-Robots-Tag:noindex
X-PUBLISHED-TTL:PT1H
BEGIN:VTIMEZONE
TZID:America/Los_Angeles
BEGIN:DAYLIGHT
TZOFFSETFROM:-0800
TZOFFSETTO:-0700
TZNAME:PDT
DTSTART:20210314T100000
END:DAYLIGHT
BEGIN:STANDARD
TZOFFSETFROM:-0700
TZOFFSETTO:-0800
TZNAME:PST
DTSTART:20211107T090000
END:STANDARD
BEGIN:DAYLIGHT
TZOFFSETFROM:-0800
TZOFFSETTO:-0700
TZNAME:PDT
DTSTART:20220313T100000
END:DAYLIGHT
BEGIN:STANDARD
TZOFFSETFROM:-0700
TZOFFSETTO:-0800
TZNAME:PST
DTSTART:20221106T090000
END:STANDARD
BEGIN:DAYLIGHT
TZOFFSETFROM:-0800
TZOFFSETTO:-0700
TZNAME:PDT
DTSTART:20230312T100000
END:DAYLIGHT
BEGIN:STANDARD
TZOFFSETFROM:-0700
TZOFFSETTO:-0800
TZNAME:PST
DTSTART:20231105T090000
END:STANDARD
BEGIN:DAYLIGHT
TZOFFSETFROM:-0800
TZOFFSETTO:-0700
TZNAME:PDT
DTSTART:20240310T100000
END:DAYLIGHT
BEGIN:STANDARD
TZOFFSETFROM:-0700
TZOFFSETTO:-0800
TZNAME:PST
DTSTART:20241103T090000
END:STANDARD
END:VTIMEZONE
BEGIN:VEVENT
DTSTART;TZID=America/Los_Angeles:20230316T160000
DTEND;TZID=America/Los_Angeles:20230316T173000
DTSTAMP:20260419T111211
CREATED:20230114T231145Z
LAST-MODIFIED:20230114T232720Z
UID:1611-1678982400-1678987800@www.earhartpta.org
SUMMARY:Math Kangaroo Test
DESCRIPTION:Math Kangaroo is an international math competition for grades 1-12. The competition is 75 minutes long and consists of challenging multiple choice questions\, 24 questions for grades 1-4\, and 30 questions for grades 5 and up. \nIf you are new to Math Kangaroo\, please read some information about this wonderful international competition in mathematics: http://www.mathkangaroo.us/mk/history.html. \nThe PTA is working on organizing free practice sessions for students at Multi Media Center every Thursday 4-5 PM starting January 26. If your student is interested in joining group practices\, or you have any questions\, please feel free to contact Shulin Lin\, Math Kangaroo Coordinator. Her contact is as follows: \nShulin Lin \ngbshulin@yahoo.com \nPhone: (415) 728-3339 \nMath Kangaroo Coordinator \nTo learn more and to register: https://mathkangaroo.oasis-lms.com/Public/Catalog/Home.aspx?Criteria=44&Option=550&tab=2 \n 
URL:https://www.earhartpta.org/event/math-kangaroo-test/
LOCATION:Earhart Elementary School\, 400 Packet Landing\, Alameda\, CA\, 94502\, United States
CATEGORIES:Events
END:VEVENT
BEGIN:VEVENT
DTSTART;TZID=America/Los_Angeles:20230315T000000
DTEND;TZID=America/Los_Angeles:20230318T000000
DTSTAMP:20260419T111211
CREATED:20220920T203123Z
LAST-MODIFIED:20230312T004111Z
UID:1444-1678838400-1679097600@www.earhartpta.org
SUMMARY:Spring Parent/Guardian Conferences - EARLY DISMISSAL
DESCRIPTION:Dismissal TimesTK – 12:10 pm\nK – 11:40 am\n1st-5th – 12:10 pm
URL:https://www.earhartpta.org/event/spring-parent-guardian-conferences/
LOCATION:CA
CATEGORIES:Events
END:VEVENT
BEGIN:VEVENT
DTSTART;TZID=America/Los_Angeles:20230314T183000
DTEND;TZID=America/Los_Angeles:20230314T203000
DTSTAMP:20260419T111211
CREATED:20230114T233428Z
LAST-MODIFIED:20230114T233428Z
UID:1626-1678818600-1678825800@www.earhartpta.org
SUMMARY:AUSD School Board Meeting
DESCRIPTION:The Board of Education holds regular meetings the second and fourth Tuesday of the month at 6:30 PM. In addition\, the Board holds several Special Board of Education meetings each year\, as well as committee and subcommittee meetings.\n\nAll AUSD meetings are recorded and all AUSD Board agendas\, minutes\, and videos are available on our NovusAgenda page. This site works best with Internet Explorer.\n\n\nIn response to the continued pandemic\, the Alameda Unified School District continues to conduct its Board of Education meetings via Zoom. \nVia Zoom \nThe Zoom link for all Regular Board of Education Meetings is here. \n\nMeeting ID: 827 6912 9867\nPasscode: 057427\n\nVia Facebook \nAll Regular Board meetings are streamed live on AUSD’s Facebook page. \n\nThe full 2023 meeting schedule can be found here.
URL:https://www.earhartpta.org/event/ausd-school-board-meeting-4/
LOCATION:CA
CATEGORIES:Events
END:VEVENT
BEGIN:VEVENT
DTSTART;TZID=America/Los_Angeles:20230313T080000
DTEND;TZID=America/Los_Angeles:20230313T170000
DTSTAMP:20260419T111211
CREATED:20230304T014233Z
LAST-MODIFIED:20230304T014245Z
UID:1807-1678694400-1678726800@www.earhartpta.org
SUMMARY:Read-A-Thon Starts!
DESCRIPTION:
URL:https://www.earhartpta.org/event/read-a-thon-starts/
LOCATION:CA
END:VEVENT
BEGIN:VEVENT
DTSTART;TZID=America/Los_Angeles:20230311T083000
DTEND;TZID=America/Los_Angeles:20230311T093000
DTSTAMP:20260419T111211
CREATED:20230114T225519Z
LAST-MODIFIED:20230306T030903Z
UID:1603-1678523400-1678527000@www.earhartpta.org
SUMMARY:Coastal Cleanup - Ocean Guardians
DESCRIPTION:It’s time to bring those buckets\, rain boots (or other water-resistant shoes) and clean up our beloved estuary! We will meet in the Earhart parking lot at 8:30 AM and walk down to Harbor Bay. We can supply robohands\, gloves\, and a limited number of buckets. Around 9:35\, we will weigh the trash collected.  \n  \n**This event will be canceled when it is raining.**
URL:https://www.earhartpta.org/event/coastal-cleanup-ocean-guardians-4/
LOCATION:Earhart Elementary School\, 400 Packet Landing\, Alameda\, CA\, 94502\, United States
CATEGORIES:Events
END:VEVENT
BEGIN:VEVENT
DTSTART;TZID=America/Los_Angeles:20230308T000000
DTEND;TZID=America/Los_Angeles:20230308T000000
DTSTAMP:20260419T111211
CREATED:20220920T203252Z
LAST-MODIFIED:20220920T203252Z
UID:1472-1678233600-1678233600@www.earhartpta.org
SUMMARY:Minimum Day
DESCRIPTION:Dismissal TimesTK – 12:30 pm\nK – 12:40 am\n1st-5th – 1:50 pm
URL:https://www.earhartpta.org/event/minimum-day-19/
LOCATION:CA
CATEGORIES:Events
END:VEVENT
BEGIN:VEVENT
DTSTART;TZID=America/Los_Angeles:20230303T080000
DTEND;TZID=America/Los_Angeles:20230303T090000
DTSTAMP:20260419T111211
CREATED:20230115T055450Z
LAST-MODIFIED:20230115T055450Z
UID:1647-1677830400-1677834000@www.earhartpta.org
SUMMARY:PTA Community Coffee
DESCRIPTION:Join us on the blacktop for coffee and light bites before or after the morning ceremony on the First Friday of each month. If you are interested in volunteering to help at a community coffee event\, please contact Stephanie Warren: kusteph97@yahoo.com.
URL:https://www.earhartpta.org/event/pta-community-coffee-2/
LOCATION:CA
CATEGORIES:Events
END:VEVENT
BEGIN:VEVENT
DTSTART;TZID=America/Los_Angeles:20230301T000000
DTEND;TZID=America/Los_Angeles:20230301T000000
DTSTAMP:20260419T111211
CREATED:20220920T203123Z
LAST-MODIFIED:20220920T203123Z
UID:1446-1677628800-1677628800@www.earhartpta.org
SUMMARY:Minimum Day
DESCRIPTION:Dismissal TimesTK – 12:10 pm\nK – 11:40 am\n1st-5th – 12:10 pm
URL:https://www.earhartpta.org/event/minimum-day-2/
LOCATION:CA
CATEGORIES:Events
END:VEVENT
BEGIN:VEVENT
DTSTART;TZID=America/Los_Angeles:20230228T190000
DTEND;TZID=America/Los_Angeles:20230228T190000
DTSTAMP:20260419T111211
CREATED:20220920T155706Z
LAST-MODIFIED:20230224T212445Z
UID:1409-1677610800-1677610800@www.earhartpta.org
SUMMARY:February 2023 PTA Meeting
DESCRIPTION:Agenda \nTreasurer’s Report \n  \nBeginning January 2023\, PTA meetings will be held in person only. For security\, please visit https://earhartpta.membershiptoolkit.com/2022-2023ptameetings for specific Zoom information.
URL:https://www.earhartpta.org/event/february-2023-pta-meeting/
LOCATION:CA
CATEGORIES:Events
END:VEVENT
BEGIN:VEVENT
DTSTART;TZID=America/Los_Angeles:20230228T183000
DTEND;TZID=America/Los_Angeles:20230228T203000
DTSTAMP:20260419T111211
CREATED:20230114T233350Z
LAST-MODIFIED:20230114T233350Z
UID:1624-1677609000-1677616200@www.earhartpta.org
SUMMARY:AUSD School Board Meeting
DESCRIPTION:The Board of Education holds regular meetings the second and fourth Tuesday of the month at 6:30 PM. In addition\, the Board holds several Special Board of Education meetings each year\, as well as committee and subcommittee meetings.\n\nAll AUSD meetings are recorded and all AUSD Board agendas\, minutes\, and videos are available on our NovusAgenda page. This site works best with Internet Explorer.\n\n\nIn response to the continued pandemic\, the Alameda Unified School District continues to conduct its Board of Education meetings via Zoom. \nVia Zoom \nThe Zoom link for all Regular Board of Education Meetings is here. \n\nMeeting ID: 827 6912 9867\nPasscode: 057427\n\nVia Facebook \nAll Regular Board meetings are streamed live on AUSD’s Facebook page. \n\nThe full 2023 meeting schedule can be found here.
URL:https://www.earhartpta.org/event/ausd-school-board-meeting-3/
LOCATION:CA
CATEGORIES:Events
END:VEVENT
BEGIN:VEVENT
DTSTART;TZID=America/Los_Angeles:20230226T163000
DTEND;TZID=America/Los_Angeles:20230226T193000
DTSTAMP:20260419T111211
CREATED:20230114T232631Z
LAST-MODIFIED:20230206T010810Z
UID:1616-1677429000-1677439800@www.earhartpta.org
SUMMARY:Earhart Night at the Warriors Game
DESCRIPTION:Join your fellow Earhart families and enjoy a Warriors game for a special price! A limited amount of $90 tickets (all-inclusive of taxes and fees) are available for the Sunday\, February 26th\, 4:30 pm game vs. the Minnesota Timberwolves at Chase Center. \nTickets can be purchased here: https://am.ticketmaster.com/warriors/promotional-page?filterType=ODA3 \nFor any questions\, contact Stephanie San Juan.
URL:https://www.earhartpta.org/event/earhart-night-at-the-warriors-game/
LOCATION:CA
CATEGORIES:Events
END:VEVENT
BEGIN:VEVENT
DTSTART;TZID=America/Los_Angeles:20230220T000000
DTEND;TZID=America/Los_Angeles:20230224T000000
DTSTAMP:20260419T111211
CREATED:20220920T203107Z
LAST-MODIFIED:20220920T203108Z
UID:1434-1676851200-1677196800@www.earhartpta.org
SUMMARY:President's Week Break
DESCRIPTION:
URL:https://www.earhartpta.org/event/presidents-week-break/
LOCATION:CA
CATEGORIES:Events
END:VEVENT
BEGIN:VEVENT
DTSTART;TZID=America/Los_Angeles:20230215T000000
DTEND;TZID=America/Los_Angeles:20230215T000000
DTSTAMP:20260419T111211
CREATED:20220920T203238Z
LAST-MODIFIED:20220920T203238Z
UID:1471-1676419200-1676419200@www.earhartpta.org
SUMMARY:Minimum Day
DESCRIPTION:Dismissal TimesTK – 12:30 pm\nK – 12:40 am\n1st-5th – 1:50 pm
URL:https://www.earhartpta.org/event/minimum-day-18/
LOCATION:CA
CATEGORIES:Events
END:VEVENT
BEGIN:VEVENT
DTSTART;TZID=America/Los_Angeles:20230214T183000
DTEND;TZID=America/Los_Angeles:20230214T203000
DTSTAMP:20260419T111211
CREATED:20230114T233319Z
LAST-MODIFIED:20230114T233319Z
UID:1622-1676399400-1676406600@www.earhartpta.org
SUMMARY:AUSD School Board Meeting
DESCRIPTION:The Board of Education holds regular meetings the second and fourth Tuesday of the month at 6:30 PM. In addition\, the Board holds several Special Board of Education meetings each year\, as well as committee and subcommittee meetings.\n\nAll AUSD meetings are recorded and all AUSD Board agendas\, minutes\, and videos are available on our NovusAgenda page. This site works best with Internet Explorer.\n\n\nIn response to the continued pandemic\, the Alameda Unified School District continues to conduct its Board of Education meetings via Zoom. \nVia Zoom \nThe Zoom link for all Regular Board of Education Meetings is here. \n\nMeeting ID: 827 6912 9867\nPasscode: 057427\n\nVia Facebook \nAll Regular Board meetings are streamed live on AUSD’s Facebook page. \n\nThe full 2023 meeting schedule can be found here.
URL:https://www.earhartpta.org/event/ausd-school-board-meeting-2/
LOCATION:CA
CATEGORIES:Events
END:VEVENT
BEGIN:VEVENT
DTSTART;TZID=America/Los_Angeles:20230211T100000
DTEND;TZID=America/Los_Angeles:20230211T120000
DTSTAMP:20260419T111211
CREATED:20230206T192314Z
LAST-MODIFIED:20230206T192314Z
UID:1760-1676109600-1676116800@www.earhartpta.org
SUMMARY:Earhart Garden Work Party
DESCRIPTION:
URL:https://www.earhartpta.org/event/earhart-garden-work-party/
LOCATION:Earhart Elementary School\, 400 Packet Landing\, Alameda\, CA\, 94502\, United States
CATEGORIES:Events
END:VEVENT
BEGIN:VEVENT
DTSTART;TZID=America/Los_Angeles:20230211T080000
DTEND;TZID=America/Los_Angeles:20230211T093000
DTSTAMP:20260419T111211
CREATED:20230114T225234Z
LAST-MODIFIED:20230114T225234Z
UID:1601-1676102400-1676107800@www.earhartpta.org
SUMMARY:Coastal Cleanup - Ocean Guardians
DESCRIPTION:It’s time to bring those buckets\, rain boots (or other water-resistant shoes) and clean up our beloved estuary! We will meet in the Earhart parking lot at 8:30 AM and walk down to Harbor Bay. We can supply robohands\, gloves\, and a limited number of buckets. Around 9:35\, we will weigh the trash collected.  \n  \n**This event will be canceled when it is raining.**
URL:https://www.earhartpta.org/event/coastal-cleanup-ocean-guardians/
LOCATION:Earhart Elementary School\, 400 Packet Landing\, Alameda\, CA\, 94502\, United States
CATEGORIES:Events
END:VEVENT
BEGIN:VEVENT
DTSTART;TZID=America/Los_Angeles:20230208T000000
DTEND;TZID=America/Los_Angeles:20230208T000000
DTSTAMP:20260419T111211
CREATED:20220920T203238Z
LAST-MODIFIED:20220920T203238Z
UID:1470-1675814400-1675814400@www.earhartpta.org
SUMMARY:Minimum Day
DESCRIPTION:Dismissal TimesTK – 12:30 pm\nK – 12:40 am\n1st-5th – 1:50 pm
URL:https://www.earhartpta.org/event/minimum-day-17/
LOCATION:CA
CATEGORIES:Events
END:VEVENT
BEGIN:VEVENT
DTSTART;TZID=America/Los_Angeles:20230205T160000
DTEND;TZID=America/Los_Angeles:20230205T200000
DTSTAMP:20260419T111211
CREATED:20230114T232248Z
LAST-MODIFIED:20230205T193202Z
UID:1613-1675612800-1675627200@www.earhartpta.org
SUMMARY:Chipotle Fundraising Night
DESCRIPTION:We’re all having Chipolte for dinner on Sunday\, February 5th!\n\n\n\nIn-person orders AND online pickup orders help raise funds for PTA. This money will be used for the SEL Toolbox rewards for students to encourage them to put their tools to use.\n\n\n\nYou must show the attached flier for in-person orders or use code ACH24E9 for any online orders (so you can skip the line when you pick up your food!) for Earhart to get fundraising dollars.
URL:https://www.earhartpta.org/event/chipotle-fundraising-night/
LOCATION:CA
CATEGORIES:Events
END:VEVENT
BEGIN:VEVENT
DTSTART;TZID=America/Los_Angeles:20230203T080000
DTEND;TZID=America/Los_Angeles:20230203T090000
DTSTAMP:20260419T111211
CREATED:20230115T055417Z
LAST-MODIFIED:20230115T055417Z
UID:1645-1675411200-1675414800@www.earhartpta.org
SUMMARY:PTA Community Coffee
DESCRIPTION:Join us on the blacktop for coffee and light bites before or after the morning ceremony on the First Friday of each month. If you are interested in volunteering to help at a community coffee event\, please contact Stephanie Warren: kusteph97@yahoo.com.
URL:https://www.earhartpta.org/event/pta-community-coffee/
LOCATION:CA
CATEGORIES:Events
END:VEVENT
BEGIN:VEVENT
DTSTART;TZID=America/Los_Angeles:20230201T000000
DTEND;TZID=America/Los_Angeles:20230201T000000
DTSTAMP:20260419T111211
CREATED:20220920T203138Z
LAST-MODIFIED:20220920T203138Z
UID:1451-1675209600-1675209600@www.earhartpta.org
SUMMARY:Teacher Collaboration Early Dismissal
DESCRIPTION:Dismissal TimesTK – 12:10 pm\nK – 11:40 am\n1st-5th – 12:10 pm
URL:https://www.earhartpta.org/event/teacher-collaboration-early-dismissal-4/
LOCATION:CA
CATEGORIES:Events
END:VEVENT
BEGIN:VEVENT
DTSTART;TZID=America/Los_Angeles:20230127T000000
DTEND;TZID=America/Los_Angeles:20230127T000000
DTSTAMP:20260419T111211
CREATED:20220920T203107Z
LAST-MODIFIED:20220920T203108Z
UID:1433-1674777600-1674777600@www.earhartpta.org
SUMMARY:Teacher Professional Development Day
DESCRIPTION:
URL:https://www.earhartpta.org/event/teacher-professional-development-day-2/
LOCATION:CA
CATEGORIES:Events
END:VEVENT
BEGIN:VEVENT
DTSTART;TZID=America/Los_Angeles:20230125T000000
DTEND;TZID=America/Los_Angeles:20230125T000000
DTSTAMP:20260419T111211
CREATED:20220920T203238Z
LAST-MODIFIED:20220920T203238Z
UID:1469-1674604800-1674604800@www.earhartpta.org
SUMMARY:Minimum Day
DESCRIPTION:Dismissal TimesTK – 12:30 pm\nK – 12:40 am\n1st-5th – 1:50 pm
URL:https://www.earhartpta.org/event/minimum-day-16/
LOCATION:CA
CATEGORIES:Events
END:VEVENT
BEGIN:VEVENT
DTSTART;TZID=America/Los_Angeles:20230124T183000
DTEND;TZID=America/Los_Angeles:20230124T203000
DTSTAMP:20260419T111211
CREATED:20230114T233235Z
LAST-MODIFIED:20230114T233236Z
UID:1620-1674585000-1674592200@www.earhartpta.org
SUMMARY:AUSD School Board Meeting
DESCRIPTION:The Board of Education holds regular meetings the second and fourth Tuesday of the month at 6:30 PM. In addition\, the Board holds several Special Board of Education meetings each year\, as well as committee and subcommittee meetings.\n\nAll AUSD meetings are recorded and all AUSD Board agendas\, minutes\, and videos are available on our NovusAgenda page. This site works best with Internet Explorer.\n\n\nIn response to the continued pandemic\, the Alameda Unified School District continues to conduct its Board of Education meetings via Zoom. \nVia Zoom \nThe Zoom link for all Regular Board of Education Meetings is here. \n\nMeeting ID: 827 6912 9867\nPasscode: 057427\n\nVia Facebook \nAll Regular Board meetings are streamed live on AUSD’s Facebook page. \n\nThe full 2023 meeting schedule can be found here.
URL:https://www.earhartpta.org/event/ausd-school-board-meeting/
LOCATION:CA
CATEGORIES:Events
END:VEVENT
BEGIN:VEVENT
DTSTART;TZID=America/Los_Angeles:20230119T183000
DTEND;TZID=America/Los_Angeles:20230119T193000
DTSTAMP:20260419T111211
CREATED:20221003T164520Z
LAST-MODIFIED:20221003T164520Z
UID:1519-1674153000-1674156600@www.earhartpta.org
SUMMARY:Diversity\, Equity & Inclusion Community of Practice: Intersectionality
DESCRIPTION:Diversity\, Equity & Inclusion Community of Practice \nJanuary 19: Intersectionality \nAll sessions 6:30-7:30 p.m. via Zoom: https://alamedaunified.zoom.us/j/82491129334   \nAUSD will host a series of five community learning conversations to learn and discuss the essential conditions that foster safe and inclusive spaces in our schools. All AUSD community members and parent/guardian school site leaders who would like to learn about and help build safe and inclusive school communities are welcome.
URL:https://www.earhartpta.org/event/diversity-equity-inclusion-community-of-practice-intersectionality/
LOCATION:CA
CATEGORIES:Events
END:VEVENT
BEGIN:VEVENT
DTSTART;TZID=America/Los_Angeles:20230118T000000
DTEND;TZID=America/Los_Angeles:20230118T000000
DTSTAMP:20260419T111211
CREATED:20220920T203237Z
LAST-MODIFIED:20220920T203237Z
UID:1468-1674000000-1674000000@www.earhartpta.org
SUMMARY:Minimum Day
DESCRIPTION:Dismissal TimesTK – 12:30 pm\nK – 12:40 am\n1st-5th – 1:50 pm
URL:https://www.earhartpta.org/event/minimum-day-15/
LOCATION:CA
CATEGORIES:Events
END:VEVENT
BEGIN:VEVENT
DTSTART;TZID=America/Los_Angeles:20230117T190000
DTEND;TZID=America/Los_Angeles:20230117T200000
DTSTAMP:20260419T111211
CREATED:20220920T155642Z
LAST-MODIFIED:20230117T202633Z
UID:1407-1673982000-1673985600@www.earhartpta.org
SUMMARY:January 2023 PTA Meeting
DESCRIPTION:Agenda \nTreasurer’s Report \n  \nBeginning January 2023\, PTA meetings will be held in-person only. For security\, please visit https://earhartpta.membershiptoolkit.com/2022-2023ptameetings for specific Zoom information.
URL:https://www.earhartpta.org/event/january-2023-pta-meeting/
LOCATION:Earhart Elementary School\, 400 Packet Landing\, Alameda\, CA\, 94502\, United States
CATEGORIES:Events
END:VEVENT
BEGIN:VEVENT
DTSTART;TZID=America/Los_Angeles:20230116T000000
DTEND;TZID=America/Los_Angeles:20230116T000000
DTSTAMP:20260419T111211
CREATED:20220920T203107Z
LAST-MODIFIED:20220920T203108Z
UID:1432-1673827200-1673827200@www.earhartpta.org
SUMMARY:Martin Luther King Jr. Day
DESCRIPTION:
URL:https://www.earhartpta.org/event/martin-luther-king-jr-day/
LOCATION:CA
CATEGORIES:Events
END:VEVENT
BEGIN:VEVENT
DTSTART;TZID=America/Los_Angeles:20230111T000000
DTEND;TZID=America/Los_Angeles:20230111T000000
DTSTAMP:20260419T111211
CREATED:20220920T203237Z
LAST-MODIFIED:20220920T203237Z
UID:1467-1673395200-1673395200@www.earhartpta.org
SUMMARY:Minimum Day
DESCRIPTION:Dismissal TimesTK – 12:30 pm\nK – 12:40 am\n1st-5th – 1:50 pm
URL:https://www.earhartpta.org/event/minimum-day-14/
LOCATION:CA
CATEGORIES:Events
END:VEVENT
BEGIN:VEVENT
DTSTART;TZID=America/Los_Angeles:20221222T000000
DTEND;TZID=America/Los_Angeles:20230106T000000
DTSTAMP:20260419T111211
CREATED:20220920T203106Z
LAST-MODIFIED:20220920T203106Z
UID:1431-1671667200-1672963200@www.earhartpta.org
SUMMARY:Winter Break
DESCRIPTION:
URL:https://www.earhartpta.org/event/winter-break/
LOCATION:CA
CATEGORIES:Events
END:VEVENT
BEGIN:VEVENT
DTSTART;TZID=America/Los_Angeles:20221221T000000
DTEND;TZID=America/Los_Angeles:20221221T000000
DTSTAMP:20260419T111211
CREATED:20220920T203223Z
LAST-MODIFIED:20220920T203223Z
UID:1466-1671580800-1671580800@www.earhartpta.org
SUMMARY:Minimum Day
DESCRIPTION:Dismissal TimesTK – 12:30 pm\nK – 12:40 am\n1st-5th – 1:50 pm
URL:https://www.earhartpta.org/event/minimum-day-13/
LOCATION:CA
CATEGORIES:Events
END:VEVENT
END:VCALENDAR