BEGIN:VCALENDAR
VERSION:2.0
PRODID:-//Earhart School PTA - ECPv6.15.20//NONSGML v1.0//EN
CALSCALE:GREGORIAN
METHOD:PUBLISH
X-WR-CALNAME:Earhart School PTA
X-ORIGINAL-URL:https://www.earhartpta.org
X-WR-CALDESC:Events for Earhart School PTA
REFRESH-INTERVAL;VALUE=DURATION:PT1H
X-Robots-Tag:noindex
X-PUBLISHED-TTL:PT1H
BEGIN:VTIMEZONE
TZID:America/Los_Angeles
BEGIN:DAYLIGHT
TZOFFSETFROM:-0800
TZOFFSETTO:-0700
TZNAME:PDT
DTSTART:20210314T100000
END:DAYLIGHT
BEGIN:STANDARD
TZOFFSETFROM:-0700
TZOFFSETTO:-0800
TZNAME:PST
DTSTART:20211107T090000
END:STANDARD
BEGIN:DAYLIGHT
TZOFFSETFROM:-0800
TZOFFSETTO:-0700
TZNAME:PDT
DTSTART:20220313T100000
END:DAYLIGHT
BEGIN:STANDARD
TZOFFSETFROM:-0700
TZOFFSETTO:-0800
TZNAME:PST
DTSTART:20221106T090000
END:STANDARD
BEGIN:DAYLIGHT
TZOFFSETFROM:-0800
TZOFFSETTO:-0700
TZNAME:PDT
DTSTART:20230312T100000
END:DAYLIGHT
BEGIN:STANDARD
TZOFFSETFROM:-0700
TZOFFSETTO:-0800
TZNAME:PST
DTSTART:20231105T090000
END:STANDARD
END:VTIMEZONE
BEGIN:VEVENT
DTSTART;TZID=America/Los_Angeles:20221109T000000
DTEND;TZID=America/Los_Angeles:20221109T000000
DTSTAMP:20260419T170542
CREATED:20220920T203222Z
LAST-MODIFIED:20220920T203222Z
UID:1463-1667952000-1667952000@www.earhartpta.org
SUMMARY:Minimum Day
DESCRIPTION:Dismissal TimesTK – 12:30 pm\nK – 12:40 am\n1st-5th – 1:50 pm
URL:https://www.earhartpta.org/event/minimum-day-10/
CATEGORIES:Events
END:VEVENT
BEGIN:VEVENT
DTSTART;TZID=America/Los_Angeles:20221103T183000
DTEND;TZID=America/Los_Angeles:20221103T193000
DTSTAMP:20260419T170542
CREATED:20221003T164305Z
LAST-MODIFIED:20221003T164305Z
UID:1517-1667500200-1667503800@www.earhartpta.org
SUMMARY:Diversity\, Equity & Inclusion Community of Practice: Your Locus of Control
DESCRIPTION:Diversity\, Equity & Inclusion Community of Practice \nNovember 3: Your Locus of Control \nAll sessions 6:30-7:30 p.m. via Zoom: https://alamedaunified.zoom.us/j/82491129334   \nAUSD will host a series of five community learning conversations to learn and discuss the essential conditions that foster safe and inclusive spaces in our schools. All AUSD community members and parent/guardian school site leaders who would like to learn about and help build safe and inclusive school communities are welcome.
URL:https://www.earhartpta.org/event/diversity-equity-inclusion-community-of-practice-your-locus-of-control/
CATEGORIES:Events
END:VEVENT
BEGIN:VEVENT
DTSTART;TZID=America/Los_Angeles:20221102T000000
DTEND;TZID=America/Los_Angeles:20221102T000000
DTSTAMP:20260419T170542
CREATED:20220920T203123Z
LAST-MODIFIED:20220920T203123Z
UID:1445-1667347200-1667347200@www.earhartpta.org
SUMMARY:Minimum Day
DESCRIPTION:Dismissal TimesTK – 12:10 pm\nK – 11:40 am\n1st-5th – 12:10 pm
URL:https://www.earhartpta.org/event/minimum-day/
CATEGORIES:Events
END:VEVENT
BEGIN:VEVENT
DTSTART;TZID=America/Los_Angeles:20221028T180000
DTEND;TZID=America/Los_Angeles:20221028T210000
DTSTAMP:20260419T170542
CREATED:20221027T023854Z
LAST-MODIFIED:20221027T023854Z
UID:1528-1666980000-1666990800@www.earhartpta.org
SUMMARY:Join us for Halloween Movie Night
DESCRIPTION:Earhart PTA are excited to host you this Friday\, October 28th at 6:00 PM for a special showing of Coco! Pack your favorite camping chair or sleeping bag and put on your coziest Halloween pajamas. \nHere are a couple of reminders: \n\nParent/Caretaker must be present in order for a student to attend\nWe are entering flu season so let’s work together to ensure we are keeping our community healthy! If you are exhibiting Flu or COVID symptoms\, please stay home.\nPTA will serve light snacks and drinks\, however\, please ensure to pack dinner for the family\nThis event is at no cost for the Earhart Elementary Community!\n\nQuestions? Contact Erin or Stephanie via email: Membership@earhartpta.org
URL:https://www.earhartpta.org/event/join-us-for-halloween-movie-night/
LOCATION:Earhart Elementary School\, 400 Packet Landing\, Alameda\, CA\, 94502\, United States
CATEGORIES:Events
ATTACH;FMTTYPE=image/png:https://www.earhartpta.org/wp-content/uploads/2022/10/inline_images_1666657969213-NavyandRedSimpleMinimalistCinemaMovieTicket.png
END:VEVENT
BEGIN:VEVENT
DTSTART;TZID=America/Los_Angeles:20221026T000000
DTEND;TZID=America/Los_Angeles:20221026T000000
DTSTAMP:20260419T170542
CREATED:20220920T203222Z
LAST-MODIFIED:20220920T203222Z
UID:1462-1666742400-1666742400@www.earhartpta.org
SUMMARY:Minimum Day
DESCRIPTION:Dismissal TimesTK – 12:30 pm\nK – 12:40 am\n1st-5th – 1:50 pm
URL:https://www.earhartpta.org/event/minimum-day-9/
CATEGORIES:Events
END:VEVENT
BEGIN:VEVENT
DTSTART;TZID=America/Los_Angeles:20221019T000000
DTEND;TZID=America/Los_Angeles:20221019T000000
DTSTAMP:20260419T170542
CREATED:20220920T203208Z
LAST-MODIFIED:20220920T203208Z
UID:1461-1666137600-1666137600@www.earhartpta.org
SUMMARY:Minimum Day
DESCRIPTION:Dismissal TimesTK – 12:30 pm\nK – 12:40 am\n1st-5th – 1:50 pm
URL:https://www.earhartpta.org/event/minimum-day-8/
CATEGORIES:Events
END:VEVENT
BEGIN:VEVENT
DTSTART;TZID=America/Los_Angeles:20221018T190000
DTEND;TZID=America/Los_Angeles:20221018T200000
DTSTAMP:20260419T170542
CREATED:20220920T155548Z
LAST-MODIFIED:20220920T205745Z
UID:1403-1666119600-1666123200@www.earhartpta.org
SUMMARY:October 2022 PTA Meeting
DESCRIPTION:For security purposes\, please visit https://earhartpta.membershiptoolkit.com/2022-2023ptameetings for Zoom login information.
URL:https://www.earhartpta.org/event/october-2022-pta-meeting/
CATEGORIES:Events
END:VEVENT
BEGIN:VEVENT
DTSTART;VALUE=DATE:20221014
DTEND;VALUE=DATE:20221015
DTSTAMP:20260419T170542
CREATED:20221003T165858Z
LAST-MODIFIED:20221003T165858Z
UID:1525-1665705600-1665791999@www.earhartpta.org
SUMMARY:Earhart Picture Day
DESCRIPTION:Get all spiffied up\, it’s picture day!!
URL:https://www.earhartpta.org/event/earhart-picture-day/
CATEGORIES:Events
END:VEVENT
BEGIN:VEVENT
DTSTART;TZID=America/Los_Angeles:20221012T000000
DTEND;TZID=America/Los_Angeles:20221012T000000
DTSTAMP:20260419T170542
CREATED:20220920T203208Z
LAST-MODIFIED:20220920T203208Z
UID:1460-1665532800-1665532800@www.earhartpta.org
SUMMARY:Minimum Day
DESCRIPTION:Dismissal TimesTK – 12:30 pm\nK – 12:40 am\n1st-5th – 1:50 pm
URL:https://www.earhartpta.org/event/minimum-day-7/
CATEGORIES:Events
END:VEVENT
BEGIN:VEVENT
DTSTART;TZID=America/Los_Angeles:20221010T000000
DTEND;TZID=America/Los_Angeles:20221010T000000
DTSTAMP:20260419T170542
CREATED:20220920T203106Z
LAST-MODIFIED:20220920T203106Z
UID:1428-1665360000-1665360000@www.earhartpta.org
SUMMARY:Teacher Professional Development Day
DESCRIPTION:
URL:https://www.earhartpta.org/event/teacher-professional-development-day/
CATEGORIES:Events
END:VEVENT
BEGIN:VEVENT
DTSTART;TZID=America/Los_Angeles:20221006T183000
DTEND;TZID=America/Los_Angeles:20221006T193000
DTSTAMP:20260419T170542
CREATED:20221003T164212Z
LAST-MODIFIED:20221003T164212Z
UID:1515-1665081000-1665084600@www.earhartpta.org
SUMMARY:Diversity\, Equity & Inclusion Community of Practice
DESCRIPTION:Diversity\, Equity & Inclusion Community of Practice \nOctober 6: The Power of Influence \nAll sessions 6:30-7:30 p.m. via Zoom: https://alamedaunified.zoom.us/j/82491129334   \nAUSD will host a series of five community learning conversations to learn and discuss the essential conditions that foster safe and inclusive spaces in our schools. All AUSD community members and parent/guardian school site leaders who would like to learn about and help build safe and inclusive school communities are welcome.
URL:https://www.earhartpta.org/event/diversity-equity-inclusion-community-of-practice/
CATEGORIES:Events
END:VEVENT
BEGIN:VEVENT
DTSTART;TZID=America/Los_Angeles:20221005T000000
DTEND;TZID=America/Los_Angeles:20221005T000000
DTSTAMP:20260419T170542
CREATED:20220920T203138Z
LAST-MODIFIED:20220920T203138Z
UID:1449-1664928000-1664928000@www.earhartpta.org
SUMMARY:Teacher Collaboration Early Dismissal
DESCRIPTION:Dismissal TimesTK – 12:10 pm\nK – 11:40 am\n1st-5th – 12:10 pm
URL:https://www.earhartpta.org/event/teacher-collaboration-early-dismissal-2/
CATEGORIES:Events
END:VEVENT
BEGIN:VEVENT
DTSTART;TZID=America/Los_Angeles:20221004T180000
DTEND;TZID=America/Los_Angeles:20221004T193000
DTSTAMP:20260419T170542
CREATED:20221003T164125Z
LAST-MODIFIED:20221003T164421Z
UID:1513-1664906400-1664911800@www.earhartpta.org
SUMMARY:Supporting Families' Digital Media & Screen Time
DESCRIPTION:Supporting Families’ Digital Media & Screen Time\nA Presentation by Common Sense Media \nOctober 4th from 6:00-7:30 \nZoom: https://alamedaunified.zoom.us/j/87150356643  \nJoin us for an interactive workshop exploring ways to address screen time use and passive media use. Families and caregivers will learn: \n\nPractical tips to support your child to balance screen-time use\nAn understanding of how social media impacts young people and how to support your child in better understanding awareness online.\n\nThis interactive workshop will take participants through a series of activities and practical prompts so they leave with a plan to support their child. Come with questions and leave with a clear direction.
URL:https://www.earhartpta.org/event/supporting-families-digital-media-screen-time/
CATEGORIES:Events
END:VEVENT
BEGIN:VEVENT
DTSTART;TZID=America/Los_Angeles:20220928T000000
DTEND;TZID=America/Los_Angeles:20220928T000000
DTSTAMP:20260419T170542
CREATED:20220920T203208Z
LAST-MODIFIED:20220920T203208Z
UID:1459-1664323200-1664323200@www.earhartpta.org
SUMMARY:Minimum Day
DESCRIPTION:Dismissal TimesTK – 12:30 pm\nK – 12:40 am\n1st-5th – 1:50 pm
URL:https://www.earhartpta.org/event/minimum-day-6/
CATEGORIES:Events
END:VEVENT
BEGIN:VEVENT
DTSTART;TZID=America/Los_Angeles:20220921T000000
DTEND;TZID=America/Los_Angeles:20220921T000000
DTSTAMP:20260419T170542
CREATED:20220920T203207Z
LAST-MODIFIED:20220920T203207Z
UID:1458-1663718400-1663718400@www.earhartpta.org
SUMMARY:Minimum Day
DESCRIPTION:Dismissal TimesTK – 12:30 pm\nK – 12:40 am\n1st-5th – 1:50 pm
URL:https://www.earhartpta.org/event/minimum-day-5/
CATEGORIES:Events
END:VEVENT
BEGIN:VEVENT
DTSTART;TZID=America/Los_Angeles:20220920T190000
DTEND;TZID=America/Los_Angeles:20220920T200000
DTSTAMP:20260419T170542
CREATED:20220920T155501Z
LAST-MODIFIED:20220920T205805Z
UID:1401-1663700400-1663704000@www.earhartpta.org
SUMMARY:September 2022 PTA Meeting
DESCRIPTION:**Please note that there will be NO in-person option for this meeting.** \n  \nFor security purposes\, please visit https://earhartpta.membershiptoolkit.com/2022-2023ptameetings for Zoom login information.
URL:https://www.earhartpta.org/event/september-2022-pta-meeting/
CATEGORIES:Events
END:VEVENT
BEGIN:VEVENT
DTSTART;TZID=America/Los_Angeles:20220914T000000
DTEND;TZID=America/Los_Angeles:20220914T000000
DTSTAMP:20260419T170542
CREATED:20220920T203207Z
LAST-MODIFIED:20220920T203207Z
UID:1457-1663113600-1663113600@www.earhartpta.org
SUMMARY:Minimum Day
DESCRIPTION:Dismissal TimesTK – 12:30 pm\nK – 12:40 am\n1st-5th – 1:50 pm
URL:https://www.earhartpta.org/event/minimum-day-4/
CATEGORIES:Events
END:VEVENT
BEGIN:VEVENT
DTSTART;TZID=America/Los_Angeles:20220907T000000
DTEND;TZID=America/Los_Angeles:20220907T000000
DTSTAMP:20260419T170542
CREATED:20220920T203137Z
LAST-MODIFIED:20220920T203137Z
UID:1448-1662508800-1662508800@www.earhartpta.org
SUMMARY:Teacher Collaboration Early Dismissal
DESCRIPTION:Dismissal TimesTK – 12:10 pm\nK – 11:40 am\n1st-5th – 12:10 pm
URL:https://www.earhartpta.org/event/teacher-collaboration-early-dismissal/
CATEGORIES:Events
END:VEVENT
BEGIN:VEVENT
DTSTART;VALUE=DATE:20220902
DTEND;VALUE=DATE:20220906
DTSTAMP:20260419T170542
CREATED:20220812T195856Z
LAST-MODIFIED:20220812T200008Z
UID:1372-1662076800-1662422399@www.earhartpta.org
SUMMARY:Labor Day Holiday
DESCRIPTION:
URL:https://www.earhartpta.org/event/labor-day-holiday/
LOCATION:Earhart Elementary School\, 400 Packet Landing\, Alameda\, CA\, 94502\, United States
CATEGORIES:Events
END:VEVENT
BEGIN:VEVENT
DTSTART;TZID=America/Los_Angeles:20220902T000000
DTEND;TZID=America/Los_Angeles:20220905T000000
DTSTAMP:20260419T170542
CREATED:20220920T203106Z
LAST-MODIFIED:20220920T203106Z
UID:1427-1662076800-1662336000@www.earhartpta.org
SUMMARY:Labor Day Break
DESCRIPTION:
URL:https://www.earhartpta.org/event/labor-day-break/
CATEGORIES:Events
END:VEVENT
BEGIN:VEVENT
DTSTART;TZID=America/Los_Angeles:20220815T083000
DTEND;TZID=America/Los_Angeles:20220815T093000
DTSTAMP:20260419T170542
CREATED:20220811T020417Z
LAST-MODIFIED:20220811T020556Z
UID:1363-1660552200-1660555800@www.earhartpta.org
SUMMARY:Meet the Principal and PTA Coffee
DESCRIPTION:Join us to meet the Principal and PTA members on the first day of school for coffee and light refreshments. Come find us at the tables inside the main gates of the school. We hope that you will take this opportunity to chat with other families and learn more about Earhart. It’s also a great time to learn more about becoming more involved with the PTA. Hope to see you there!
URL:https://www.earhartpta.org/event/meet-the-principal-and-pta-coffee/
LOCATION:Earhart Elementary School\, 400 Packet Landing\, Alameda\, CA\, 94502\, United States
CATEGORIES:Events
END:VEVENT
BEGIN:VEVENT
DTSTART;VALUE=DATE:20220815
DTEND;VALUE=DATE:20220902
DTSTAMP:20260419T170542
CREATED:20220812T195832Z
LAST-MODIFIED:20220812T200014Z
UID:1370-1660521600-1662076799@www.earhartpta.org
SUMMARY:TK Minimum Days
DESCRIPTION:TKs’ schedule for opening days ONLY is 8:45-12:10 pm from August 15 through September 1\, 2022.
URL:https://www.earhartpta.org/event/tk-minimum-days/
LOCATION:Earhart Elementary School\, 400 Packet Landing\, Alameda\, CA\, 94502\, United States
CATEGORIES:Events
END:VEVENT
BEGIN:VEVENT
DTSTART;VALUE=DATE:20220815
DTEND;VALUE=DATE:20220902
DTSTAMP:20260419T170542
CREATED:20220812T195652Z
LAST-MODIFIED:20220812T200018Z
UID:1368-1660521600-1662076799@www.earhartpta.org
SUMMARY:Kindergarten Minimum Days
DESCRIPTION:Kindergarteners’ schedule for opening days ONLY is 8:20-11:40 am from August 15 through September 1\, 2022.
URL:https://www.earhartpta.org/event/kindergarten-minimum-days/
LOCATION:Earhart Elementary School\, 400 Packet Landing\, Alameda\, CA\, 94502\, United States
CATEGORIES:Events
END:VEVENT
BEGIN:VEVENT
DTSTART;VALUE=DATE:20220815
DTEND;VALUE=DATE:20220820
DTSTAMP:20260419T170542
CREATED:20220812T195454Z
LAST-MODIFIED:20220812T200023Z
UID:1366-1660521600-1660953599@www.earhartpta.org
SUMMARY:1st-5th Minimum Days
DESCRIPTION:Please note that pickup time for 1st to 5th graders is 12:10 for the first week of school.
URL:https://www.earhartpta.org/event/1st-5th-minimum-days/
LOCATION:Earhart Elementary School\, 400 Packet Landing\, Alameda\, CA\, 94502\, United States
CATEGORIES:Events
END:VEVENT
BEGIN:VEVENT
DTSTART;TZID=America/Los_Angeles:20220813T100000
DTEND;TZID=America/Los_Angeles:20220813T110000
DTSTAMP:20260419T170542
CREATED:20220807T185102Z
LAST-MODIFIED:20220807T185925Z
UID:1349-1660384800-1660388400@www.earhartpta.org
SUMMARY:Back to School Meetup
DESCRIPTION:Your families are invited to a park play date to kick off the 2022-2023 school year. This event is open to all Earhart Aviators\, parents\, guardians\, and siblings! Light refreshments will be served. We look forward to seeing you all!
URL:https://www.earhartpta.org/event/back-to-school-meetup/
LOCATION:Tillman Park\, 220 Aughinbaugh Way\, Alameda\, CA\, 94502
CATEGORIES:Events
END:VEVENT
BEGIN:VEVENT
DTSTART;VALUE=DATE:20220608
DTEND;VALUE=DATE:20220609
DTSTAMP:20260419T170542
CREATED:20210826T175257Z
LAST-MODIFIED:20210826T175257Z
UID:1184-1654646400-1654732799@www.earhartpta.org
SUMMARY:LAST DAY OF SCHOOL
DESCRIPTION:
URL:https://www.earhartpta.org/event/last-day-of-school/
CATEGORIES:Events
END:VEVENT
BEGIN:VEVENT
DTSTART;VALUE=DATE:20220603
DTEND;VALUE=DATE:20220604
DTSTAMP:20260419T170542
CREATED:20220403T222332Z
LAST-MODIFIED:20220403T222332Z
UID:1339-1654214400-1654300799@www.earhartpta.org
SUMMARY:Fun Friday!
DESCRIPTION:Earhart PTA is sponsoring “Fun Fridays” until the end of the school year: \nWho: Everyone is invited to come have fun in the morning! \nWhat: Students and teachers are invited to wear their Earhart t-shirts\, Earhart PTA will be doing the rest! \nWhen: Every Friday starting 4/8 until the end of the school year \nWhere: Earhart school \nWhy: To have fun and show school spirit!
URL:https://www.earhartpta.org/event/fun-friday-8/
CATEGORIES:Events
END:VEVENT
BEGIN:VEVENT
DTSTART;VALUE=DATE:20220527
DTEND;VALUE=DATE:20220531
DTSTAMP:20260419T170542
CREATED:20210826T175217Z
LAST-MODIFIED:20210826T175217Z
UID:1182-1653609600-1653955199@www.earhartpta.org
SUMMARY:NO SCHOOL - Memorial Day Break
DESCRIPTION:
URL:https://www.earhartpta.org/event/no-school-memorial-day-break/
CATEGORIES:Events
END:VEVENT
BEGIN:VEVENT
DTSTART;VALUE=DATE:20220520
DTEND;VALUE=DATE:20220521
DTSTAMP:20260419T170542
CREATED:20220403T222208Z
LAST-MODIFIED:20220403T222208Z
UID:1335-1653004800-1653091199@www.earhartpta.org
SUMMARY:Fun Friday!
DESCRIPTION:Earhart PTA is sponsoring “Fun Fridays” until the end of the school year: \nWho: Everyone is invited to come have fun in the morning! \nWhat: Students and teachers are invited to wear their Earhart t-shirts\, Earhart PTA will be doing the rest! \nWhen: Every Friday starting 4/8 until the end of the school year \nWhere: Earhart school \nWhy: To have fun and show school spirit!
URL:https://www.earhartpta.org/event/fun-friday-6/
CATEGORIES:Events
END:VEVENT
BEGIN:VEVENT
DTSTART;TZID=America/Los_Angeles:20220517T190000
DTEND;TZID=America/Los_Angeles:20220517T203000
DTSTAMP:20260419T170542
CREATED:20210826T172127Z
LAST-MODIFIED:20210826T172201Z
UID:1159-1652814000-1652819400@www.earhartpta.org
SUMMARY:May PTA Meeting via Zoom
DESCRIPTION:Join us for the final PTA meeting of the school year! \nJoin Zoom Meeting\nhttps://us02web.zoom.us/j/89248843515?pwd=RkpZaDRKVkRJVmpVQ2d6bi9xWVZpQT09 \nMeeting ID: 892 4884 3515\nPasscode: 94502
URL:https://www.earhartpta.org/event/may-pta-meeting-via-zoom/
CATEGORIES:Events
END:VEVENT
END:VCALENDAR